BEGIN:VCALENDAR
VERSION:2.0
PRODID:-//eventon.com NONSGML v1.0//EN
CALSCALE:GREGORIAN
METHOD:PUBLISH
BEGIN:VEVENT
UID:69eb3f94d13c5
DTSTAMP:20260424T100156Z
DTSTART:20170406
DTEND:20170407
LOCATION:Fairmont Miramar Hotel &amp; Bungalows
SUMMARY:SBIA Western Private Equity Conference
DESCRIPTION:SBIA Western Private Equity Conference\nhttps://mcb.cpa/events-
 directory/sbia-western-private-equity-conference/
URL:https://mcb.cpa/events-directory/sbia-western-private-equity-conference/
END:VEVENT
END:VCALENDAR