BEGIN:VCALENDAR
VERSION:2.0
PRODID:-//eventon.com NONSGML v1.0//EN
CALSCALE:GREGORIAN
METHOD:PUBLISH
BEGIN:VEVENT
UID:69eb2aeef270a
DTSTAMP:20260424T083350Z
DTSTART:20250325T080000Z
DTEND:20250327T130000Z
LOCATION:Fairmont Century Plaza\,  in Los Angeles\,  California
SUMMARY:SBIA's 2025 West Coast Capital Summit & CapitaLinx
DESCRIPTION:MCB is a proud sponsor of The 2025 West Coast Capital Summit &a
 mp; CapitaLinx\,  March 25-27\,  2025\,  at Fairmont Century Plaza\,  in L
 os Angeles\,  California. The West Coast Capital Summit brings together mor
 e than 200 lower middle market fund managers\,  limited partners\,  investm
 ent bankers\,  and industry professionals. Conference attendees will gain[.
 .]\nhttps://mcb.cpa/events-directory/2025-west-coast-capital-summit-capital
 inx/
URL:https://mcb.cpa/events-directory/2025-west-coast-capital-summit-capitalinx/
END:VEVENT
END:VCALENDAR