BEGIN:VCALENDAR
VERSION:2.0
PRODID:-//eventon.com NONSGML v1.0//EN
CALSCALE:GREGORIAN
METHOD:PUBLISH
BEGIN:VEVENT
UID:69e885b09ee81
DTSTAMP:20260422T082416Z
DTSTART:20231117T140000Z
DTEND:20231117T160000Z
LOCATION:Matthews\,  Carter &amp; Boyce CPAs Advisors
SUMMARY:MCB Meal Packing Event: Food For Others
DESCRIPTION:MCB will be packing non-perishable food packs to be delivered t
 o school age children that do not have adequate food at home over the weeke
 nds. Delivered to children at 45 schools throughout Fairfax County each wee
 k. During the 2022-2023 school year\,  Food For Others distributed over 3\,
  700 of these packs[..]\nhttps://mcb.cpa/events-directory/mcb-meal-packing-
 event-food-for-others/
URL:https://mcb.cpa/events-directory/mcb-meal-packing-event-food-for-others/
END:VEVENT
END:VCALENDAR