BEGIN:VCALENDAR
VERSION:2.0
PRODID:-//eventon.com NONSGML v1.0//EN
CALSCALE:GREGORIAN
METHOD:PUBLISH
BEGIN:VEVENT
UID:69ecabd42644a
DTSTAMP:20260425T115604Z
DTSTART:20190611T090000Z
DTEND:20190611T170000Z
LOCATION:Matthews\,  Carter &amp; Boyce CPAs Advisors
SUMMARY:2019 Externship
DESCRIPTION:Extern with MCB and gain valuable insight into the world of pub
 lic accounting. You will learn more about our firm and what it looks like t
 o work for a growing organization. You will have a chance to network with o
 ur employees and see first hand what a day in the[..]\nhttps://mcb.cpa/even
 ts-directory/accounting-externship/
URL:https://mcb.cpa/events-directory/accounting-externship/
END:VEVENT
END:VCALENDAR