BEGIN:VCALENDAR
VERSION:2.0
PRODID:-//eventon.com NONSGML v1.0//EN
CALSCALE:GREGORIAN
METHOD:PUBLISH
BEGIN:VEVENT
UID:69e73baf40cda
DTSTAMP:20260421T085615Z
DTSTART:20181009
DTEND:20181010
LOCATION:GMU Student Union Building 1 3400\,  Room 5
SUMMARY:GMU Full-time Staff Accountant On-Campus Interviews
DESCRIPTION:GMU Full-time Staff Accountant On-Campus Interview. This positi
 on will start in the Fall 2019. Interview Date: 10/9/18 Interview Location:
  Student Union Building 1 3400\,  Room 5 JoinHandShake Job Number: 1759851 
 Please login to joinhandshake.com to sign-up for an interview. Resume Submi
 ssion End: 10/04/18 at 11:59 PM\nhttps://mcb.cpa/events-directory/gmu-full-
 time-staff-accountant-on-campus-interview/
URL:https://mcb.cpa/events-directory/gmu-full-time-staff-accountant-on-campus-interview/
END:VEVENT
END:VCALENDAR