BEGIN:VCALENDAR
VERSION:2.0
PRODID:-//eventon.com NONSGML v1.0//EN
CALSCALE:GREGORIAN
METHOD:PUBLISH
BEGIN:VEVENT
UID:69e737e59d0c3
DTSTAMP:20260421T084005Z
DTSTART:20181009
DTEND:20181010
LOCATION:Student Union Building 1 3400\,  Room 6
SUMMARY:GMU Summer 2019 Internship On-Campus Interviews
DESCRIPTION:JMU Internship On-Campus Interview. The Internship will start J
 une 2019. Interview Date: 10/9/18 Interview Location: Student Union Buildin
 g 1 3400\,  Room 6 JoinHandShake Job Number: 1759859 Please login to joinha
 ndshake.com to sign-up for an interview. Resume Submission End: 10/04/18 at
  11:59 PM\nhttps://mcb.cpa/events-directory/gmu-summer-internship-on-campus
 -interviews/
URL:https://mcb.cpa/events-directory/gmu-summer-internship-on-campus-interviews/
END:VEVENT
END:VCALENDAR