BEGIN:VCALENDAR
VERSION:2.0
PRODID:-//eventon.com NONSGML v1.0//EN
CALSCALE:GREGORIAN
METHOD:PUBLISH
BEGIN:VEVENT
UID:69e88586233f0
DTSTAMP:20260422T082334Z
DTSTART:20180522T073000Z
DTEND:20180522T103000Z
LOCATION:Conference Center 1st Floor
SUMMARY:Federal Contractor's Employee Benefits
DESCRIPTION:Join us for a FREE workshop on Federal Contractor&#8217;s Emplo
 yee Benefits. During this event\,  top experts in the Government Contract I
 ndustry will present on: Current Compliance Issues for Federal Contractor 
 and Fringe Benefits and Federal Services Contracts &#8211; Positioning you
 r Health and Welfare Plan for Success.\nhttps://mcb.cpa/events-directory/fe
 deral-contractors-employee-benefits/
URL:https://mcb.cpa/events-directory/federal-contractors-employee-benefits/
END:VEVENT
END:VCALENDAR